BEGIN:VCALENDAR
VERSION:2.0
PRODID:-//Tukios.com/
BEGIN:VEVENT
UID:eee98ae0-c347-4324-a402-cb76c013dd9c@www.simplicitycremationohio.com
DTSTAMP:20260422T222755Z
DTSTART:20260524T160000Z
DTEND:20260524T190000Z
SUMMARY:Celebration of Life
DESCRIPTION:
URL:https://www.simplicitycremationohio.com/obituaries/timothy-holder
LOCATION:The Gallery 115 East Pioneer Trail  Aurora OH 44202
GEO:41.3127551;-81.3439004
END:VEVENT
END:VCALENDAR